BEGIN:VCALENDAR
VERSION:2.0
PRODID:-//Dakota Baptist Convention - ECPv6.15.20//NONSGML v1.0//EN
CALSCALE:GREGORIAN
METHOD:PUBLISH
X-ORIGINAL-URL:https://dakotabaptist.com
X-WR-CALDESC:Events for Dakota Baptist Convention
REFRESH-INTERVAL;VALUE=DURATION:PT1H
X-Robots-Tag:noindex
X-PUBLISHED-TTL:PT1H
BEGIN:VTIMEZONE
TZID:America/Denver
BEGIN:DAYLIGHT
TZOFFSETFROM:-0700
TZOFFSETTO:-0600
TZNAME:MDT
DTSTART:20240310T090000
END:DAYLIGHT
BEGIN:STANDARD
TZOFFSETFROM:-0600
TZOFFSETTO:-0700
TZNAME:MST
DTSTART:20241103T080000
END:STANDARD
BEGIN:DAYLIGHT
TZOFFSETFROM:-0700
TZOFFSETTO:-0600
TZNAME:MDT
DTSTART:20250309T090000
END:DAYLIGHT
BEGIN:STANDARD
TZOFFSETFROM:-0600
TZOFFSETTO:-0700
TZNAME:MST
DTSTART:20251102T080000
END:STANDARD
BEGIN:DAYLIGHT
TZOFFSETFROM:-0700
TZOFFSETTO:-0600
TZNAME:MDT
DTSTART:20260308T090000
END:DAYLIGHT
BEGIN:STANDARD
TZOFFSETFROM:-0600
TZOFFSETTO:-0700
TZNAME:MST
DTSTART:20261101T080000
END:STANDARD
END:VTIMEZONE
BEGIN:VEVENT
DTSTART;TZID=America/Denver:20250901T080000
DTEND;TZID=America/Denver:20250930T170000
DTSTAMP:20260420T210054
CREATED:20250612T183817Z
LAST-MODIFIED:20250612T183819Z
UID:10000314-1756713600-1759251600@dakotabaptist.com
SUMMARY:Baker State Missions Offering
DESCRIPTION:
URL:https://dakotabaptist.com/event/baker-state-missions-offering/
ATTACH;FMTTYPE=image/png:https://dakotabaptist.com/wp-content/uploads/2025/06/baker.png
END:VEVENT
BEGIN:VEVENT
DTSTART;TZID=America/Denver:20250901T080000
DTEND;TZID=America/Denver:20250901T170000
DTSTAMP:20260420T210054
CREATED:20250611T203037Z
LAST-MODIFIED:20250611T203039Z
UID:10000313-1756713600-1756746000@dakotabaptist.com
SUMMARY:Labor Day
DESCRIPTION:The DBC Office is Closed for Labor Day.
URL:https://dakotabaptist.com/event/labor-day/
ATTACH;FMTTYPE=image/jpeg:https://dakotabaptist.com/wp-content/uploads/2025/06/labor-scaled.jpg
END:VEVENT
BEGIN:VEVENT
DTSTART;TZID=America/Denver:20250824T080000
DTEND;TZID=America/Denver:20250824T170000
DTSTAMP:20260420T210054
CREATED:20250611T202704Z
LAST-MODIFIED:20250611T202706Z
UID:10000312-1756022400-1756054800@dakotabaptist.com
SUMMARY:Global Hunger Sunday
DESCRIPTION:Join us to learn\, pray and take action to make a tangible difference in the lives of those in need!
URL:https://dakotabaptist.com/event/global-hunger-sunday/
ATTACH;FMTTYPE=image/jpeg:https://dakotabaptist.com/wp-content/uploads/2025/06/hunger-2.jpg
END:VEVENT
BEGIN:VEVENT
DTSTART;TZID=America/Denver:20250810T080000
DTEND;TZID=America/Denver:20250810T170000
DTSTAMP:20260420T210054
CREATED:20250611T202214Z
LAST-MODIFIED:20250611T202215Z
UID:10000311-1754812800-1754845200@dakotabaptist.com
SUMMARY:SBC Serve Sunday
DESCRIPTION:This is a day to emphasize and promote acts of service and ministry\, encouraging churches to engage in compassion ministry and connect with local and global communities.
URL:https://dakotabaptist.com/event/sbc-serve-sunday/
ATTACH;FMTTYPE=image/jpeg:https://dakotabaptist.com/wp-content/uploads/2025/06/qtq80-kfDYTf.jpeg
END:VEVENT
BEGIN:VEVENT
DTSTART;TZID=America/Denver:20250803T080000
DTEND;TZID=America/Denver:20250803T170000
DTSTAMP:20260420T210054
CREATED:20250611T201759Z
LAST-MODIFIED:20250612T181805Z
UID:10000310-1754208000-1754240400@dakotabaptist.com
SUMMARY:Send Relief Sunday
DESCRIPTION:Send Relief is encouraging Southern Baptists everywhere to join together to meet needs and change lives through serving others across the world on Send Relief Sunday.
URL:https://dakotabaptist.com/event/send-relief-sunday/
ATTACH;FMTTYPE=image/jpeg:https://dakotabaptist.com/wp-content/uploads/2025/06/Send-Relief_04-2048x1152-1.jpg
END:VEVENT
BEGIN:VEVENT
DTSTART;TZID=America/Denver:20250801T080000
DTEND;TZID=America/Denver:20250802T120000
DTSTAMP:20260420T210054
CREATED:20250611T201458Z
LAST-MODIFIED:20250702T181859Z
UID:10000309-1754035200-1754136000@dakotabaptist.com
SUMMARY:DBC Executive Board Meeting in Bismark\, ND
DESCRIPTION:
URL:https://dakotabaptist.com/event/dbc-executive-board-meeting-in-bismark-nd/
ATTACH;FMTTYPE=image/jpeg:https://dakotabaptist.com/wp-content/uploads/2025/06/qtq80-tBTPpZ.jpeg
END:VEVENT
BEGIN:VEVENT
DTSTART;TZID=America/Denver:20250706T080000
DTEND;TZID=America/Denver:20250706T170000
DTSTAMP:20260420T210054
CREATED:20250611T200920Z
LAST-MODIFIED:20250611T200922Z
UID:10000308-1751788800-1751821200@dakotabaptist.com
SUMMARY:Religious Liberty Sunday
DESCRIPTION:A day to celebrate and promote religious freedom.
URL:https://dakotabaptist.com/event/religious-liberty-sunday/
ATTACH;FMTTYPE=image/jpeg:https://dakotabaptist.com/wp-content/uploads/2025/06/liberty.jpg
END:VEVENT
BEGIN:VEVENT
DTSTART;TZID=America/Denver:20250704T080000
DTEND;TZID=America/Denver:20250704T170000
DTSTAMP:20260420T210054
CREATED:20250611T200525Z
LAST-MODIFIED:20250611T200527Z
UID:10000307-1751616000-1751648400@dakotabaptist.com
SUMMARY:Independence Day
DESCRIPTION:DBC Office is closed Independence Day
URL:https://dakotabaptist.com/event/independence-day/
ATTACH;FMTTYPE=image/jpeg:https://dakotabaptist.com/wp-content/uploads/2025/06/fireworks.jpg
END:VEVENT
BEGIN:VEVENT
DTSTART;TZID=America/Denver:20250622T080000
DTEND;TZID=America/Denver:20250622T170000
DTSTAMP:20260420T210054
CREATED:20250611T200030Z
LAST-MODIFIED:20250611T200032Z
UID:10000306-1750579200-1750611600@dakotabaptist.com
SUMMARY:Mission Dignity Sunday
DESCRIPTION:Let’s all unite to support retired Southern Baptist ministers\, their widows\, and other workers in critical financial need\, especially on this day.
URL:https://dakotabaptist.com/event/mission-dignity-sunday/
ATTACH;FMTTYPE=image/jpeg:https://dakotabaptist.com/wp-content/uploads/2025/06/qtq80-Jod6RN.jpeg
END:VEVENT
BEGIN:VEVENT
DTSTART;TZID=America/Denver:20250615T080000
DTEND;TZID=America/Denver:20250615T170000
DTSTAMP:20260420T210054
CREATED:20250611T195419Z
LAST-MODIFIED:20250611T195421Z
UID:10000305-1749974400-1750006800@dakotabaptist.com
SUMMARY:Father's Day
DESCRIPTION:Happy Father’s day!! We are grateful for yall!
URL:https://dakotabaptist.com/event/fathers-day/
ATTACH;FMTTYPE=image/jpeg:https://dakotabaptist.com/wp-content/uploads/2025/06/qtq80-2tLwrO.jpeg
END:VEVENT
BEGIN:VEVENT
DTSTART;TZID=America/Denver:20250607T170000
DTEND;TZID=America/Denver:20250611T120000
DTSTAMP:20260420T210054
CREATED:20250611T195057Z
LAST-MODIFIED:20250611T195058Z
UID:10000304-1749315600-1749643200@dakotabaptist.com
SUMMARY:SBC Annual Meeting in Dallas\, TX
DESCRIPTION:June 7th- Crossover Dallas \n\n\n\n8-9th- SBC Pastor’s Conference/ WMU Celebration \n\n\n\n10-11th- SBC Annual Meeting
URL:https://dakotabaptist.com/event/sbc-annual-meeting-in-dallas-tx-2/
LOCATION:Kay Bailey Hutchison Convention
ATTACH;FMTTYPE=image/jpeg:https://dakotabaptist.com/wp-content/uploads/2025/06/gallery_2.jpg
END:VEVENT
BEGIN:VEVENT
DTSTART;TZID=America/Denver:20250526T080000
DTEND;TZID=America/Denver:20250526T170000
DTSTAMP:20260420T210054
CREATED:20250529T163752Z
LAST-MODIFIED:20250529T164140Z
UID:10000303-1748246400-1748278800@dakotabaptist.com
SUMMARY:Closed Memorial Day
DESCRIPTION:Our office will be closed on Memorial Day
URL:https://dakotabaptist.com/event/closed-memorial-day/
ATTACH;FMTTYPE=image/jpeg:https://dakotabaptist.com/wp-content/uploads/2020/05/133838372_s.jpg
END:VEVENT
END:VCALENDAR