BEGIN:VCALENDAR
VERSION:2.0
PRODID:-//Dakota Baptist Convention - ECPv6.15.20//NONSGML v1.0//EN
CALSCALE:GREGORIAN
METHOD:PUBLISH
X-ORIGINAL-URL:https://dakotabaptist.com
X-WR-CALDESC:Events for Dakota Baptist Convention
REFRESH-INTERVAL;VALUE=DURATION:PT1H
X-Robots-Tag:noindex
X-PUBLISHED-TTL:PT1H
BEGIN:VTIMEZONE
TZID:America/Denver
BEGIN:DAYLIGHT
TZOFFSETFROM:-0700
TZOFFSETTO:-0600
TZNAME:MDT
DTSTART:20240310T090000
END:DAYLIGHT
BEGIN:STANDARD
TZOFFSETFROM:-0600
TZOFFSETTO:-0700
TZNAME:MST
DTSTART:20241103T080000
END:STANDARD
BEGIN:DAYLIGHT
TZOFFSETFROM:-0700
TZOFFSETTO:-0600
TZNAME:MDT
DTSTART:20250309T090000
END:DAYLIGHT
BEGIN:STANDARD
TZOFFSETFROM:-0600
TZOFFSETTO:-0700
TZNAME:MST
DTSTART:20251102T080000
END:STANDARD
BEGIN:DAYLIGHT
TZOFFSETFROM:-0700
TZOFFSETTO:-0600
TZNAME:MDT
DTSTART:20260308T090000
END:DAYLIGHT
BEGIN:STANDARD
TZOFFSETFROM:-0600
TZOFFSETTO:-0700
TZNAME:MST
DTSTART:20261101T080000
END:STANDARD
END:VTIMEZONE
BEGIN:VEVENT
DTSTART;TZID=America/Denver:20250901T080000
DTEND;TZID=America/Denver:20250901T170000
DTSTAMP:20260420T154313
CREATED:20250611T203037Z
LAST-MODIFIED:20250611T203039Z
UID:10000313-1756713600-1756746000@dakotabaptist.com
SUMMARY:Labor Day
DESCRIPTION:The DBC Office is Closed for Labor Day.
URL:https://dakotabaptist.com/event/labor-day/
ATTACH;FMTTYPE=image/jpeg:https://dakotabaptist.com/wp-content/uploads/2025/06/labor-scaled.jpg
END:VEVENT
BEGIN:VEVENT
DTSTART;TZID=America/Denver:20250901T080000
DTEND;TZID=America/Denver:20250930T170000
DTSTAMP:20260420T154313
CREATED:20250612T183817Z
LAST-MODIFIED:20250612T183819Z
UID:10000314-1756713600-1759251600@dakotabaptist.com
SUMMARY:Baker State Missions Offering
DESCRIPTION:
URL:https://dakotabaptist.com/event/baker-state-missions-offering/
ATTACH;FMTTYPE=image/png:https://dakotabaptist.com/wp-content/uploads/2025/06/baker.png
END:VEVENT
BEGIN:VEVENT
DTSTART;TZID=America/Denver:20250907T080000
DTEND;TZID=America/Denver:20250914T170000
DTSTAMP:20260420T154313
CREATED:20250612T184401Z
LAST-MODIFIED:20250612T184403Z
UID:10000315-1757232000-1757869200@dakotabaptist.com
SUMMARY:Week of Prayer for Reaching the Dakota's & Baker Offering
DESCRIPTION:
URL:https://dakotabaptist.com/event/week-of-prayer-for-reaching-the-dakotas-baker-offering/
ATTACH;FMTTYPE=image/jpeg:https://dakotabaptist.com/wp-content/uploads/2025/06/praying-scaled.jpg
END:VEVENT
BEGIN:VEVENT
DTSTART;TZID=America/Denver:20250920T080000
DTEND;TZID=America/Denver:20250920T170000
DTSTAMP:20260420T154313
CREATED:20250612T185133Z
LAST-MODIFIED:20250612T185134Z
UID:10000316-1758355200-1758387600@dakotabaptist.com
SUMMARY:Children's Missions Day
DESCRIPTION:Children’s Missions day encourages children to learn about and participate in mission projects\, connecting them with the needs of their communities and the world.
URL:https://dakotabaptist.com/event/childrens-missions-day/
ATTACH;FMTTYPE=image/jpeg:https://dakotabaptist.com/wp-content/uploads/2025/06/children-holding-hands-stockcake.jpg
END:VEVENT
BEGIN:VEVENT
DTSTART;TZID=America/Denver:20250928T080000
DTEND;TZID=America/Denver:20250928T170000
DTSTAMP:20260420T154313
CREATED:20250612T185729Z
LAST-MODIFIED:20250612T185731Z
UID:10000317-1759046400-1759078800@dakotabaptist.com
SUMMARY:Caring Well Sunday
DESCRIPTION:
URL:https://dakotabaptist.com/event/caring-well-sunday/
ATTACH;FMTTYPE=image/jpeg:https://dakotabaptist.com/wp-content/uploads/2025/06/caring.jpg
END:VEVENT
END:VCALENDAR