BEGIN:VCALENDAR
VERSION:2.0
PRODID:-//Dakota Baptist Convention - ECPv6.15.20//NONSGML v1.0//EN
CALSCALE:GREGORIAN
METHOD:PUBLISH
X-ORIGINAL-URL:https://dakotabaptist.com
X-WR-CALDESC:Events for Dakota Baptist Convention
REFRESH-INTERVAL;VALUE=DURATION:PT1H
X-Robots-Tag:noindex
X-PUBLISHED-TTL:PT1H
BEGIN:VTIMEZONE
TZID:America/Denver
BEGIN:DAYLIGHT
TZOFFSETFROM:-0700
TZOFFSETTO:-0600
TZNAME:MDT
DTSTART:20240310T090000
END:DAYLIGHT
BEGIN:STANDARD
TZOFFSETFROM:-0600
TZOFFSETTO:-0700
TZNAME:MST
DTSTART:20241103T080000
END:STANDARD
BEGIN:DAYLIGHT
TZOFFSETFROM:-0700
TZOFFSETTO:-0600
TZNAME:MDT
DTSTART:20250309T090000
END:DAYLIGHT
BEGIN:STANDARD
TZOFFSETFROM:-0600
TZOFFSETTO:-0700
TZNAME:MST
DTSTART:20251102T080000
END:STANDARD
BEGIN:DAYLIGHT
TZOFFSETFROM:-0700
TZOFFSETTO:-0600
TZNAME:MDT
DTSTART:20260308T090000
END:DAYLIGHT
BEGIN:STANDARD
TZOFFSETFROM:-0600
TZOFFSETTO:-0700
TZNAME:MST
DTSTART:20261101T080000
END:STANDARD
BEGIN:DAYLIGHT
TZOFFSETFROM:-0700
TZOFFSETTO:-0600
TZNAME:MDT
DTSTART:20270314T090000
END:DAYLIGHT
BEGIN:STANDARD
TZOFFSETFROM:-0600
TZOFFSETTO:-0700
TZNAME:MST
DTSTART:20271107T080000
END:STANDARD
END:VTIMEZONE
BEGIN:VEVENT
DTSTART;TZID=America/Denver:20250607T170000
DTEND;TZID=America/Denver:20250611T120000
DTSTAMP:20260420T220627
CREATED:20250611T195057Z
LAST-MODIFIED:20250611T195058Z
UID:10000304-1749315600-1749643200@dakotabaptist.com
SUMMARY:SBC Annual Meeting in Dallas\, TX
DESCRIPTION:June 7th- Crossover Dallas \n\n\n\n8-9th- SBC Pastor’s Conference/ WMU Celebration \n\n\n\n10-11th- SBC Annual Meeting
URL:https://dakotabaptist.com/event/sbc-annual-meeting-in-dallas-tx-2/
LOCATION:Kay Bailey Hutchison Convention
ATTACH;FMTTYPE=image/jpeg:https://dakotabaptist.com/wp-content/uploads/2025/06/gallery_2.jpg
END:VEVENT
BEGIN:VEVENT
DTSTART;TZID=America/Denver:20250615T080000
DTEND;TZID=America/Denver:20250615T170000
DTSTAMP:20260420T220627
CREATED:20250611T195419Z
LAST-MODIFIED:20250611T195421Z
UID:10000305-1749974400-1750006800@dakotabaptist.com
SUMMARY:Father's Day
DESCRIPTION:Happy Father’s day!! We are grateful for yall!
URL:https://dakotabaptist.com/event/fathers-day/
ATTACH;FMTTYPE=image/jpeg:https://dakotabaptist.com/wp-content/uploads/2025/06/qtq80-2tLwrO.jpeg
END:VEVENT
BEGIN:VEVENT
DTSTART;TZID=America/Denver:20250622T080000
DTEND;TZID=America/Denver:20250622T170000
DTSTAMP:20260420T220627
CREATED:20250611T200030Z
LAST-MODIFIED:20250611T200032Z
UID:10000306-1750579200-1750611600@dakotabaptist.com
SUMMARY:Mission Dignity Sunday
DESCRIPTION:Let’s all unite to support retired Southern Baptist ministers\, their widows\, and other workers in critical financial need\, especially on this day.
URL:https://dakotabaptist.com/event/mission-dignity-sunday/
ATTACH;FMTTYPE=image/jpeg:https://dakotabaptist.com/wp-content/uploads/2025/06/qtq80-Jod6RN.jpeg
END:VEVENT
BEGIN:VEVENT
DTSTART;TZID=America/Denver:20250704T080000
DTEND;TZID=America/Denver:20250704T170000
DTSTAMP:20260420T220627
CREATED:20250611T200525Z
LAST-MODIFIED:20250611T200527Z
UID:10000307-1751616000-1751648400@dakotabaptist.com
SUMMARY:Independence Day
DESCRIPTION:DBC Office is closed Independence Day
URL:https://dakotabaptist.com/event/independence-day/
ATTACH;FMTTYPE=image/jpeg:https://dakotabaptist.com/wp-content/uploads/2025/06/fireworks.jpg
END:VEVENT
BEGIN:VEVENT
DTSTART;TZID=America/Denver:20250706T080000
DTEND;TZID=America/Denver:20250706T170000
DTSTAMP:20260420T220627
CREATED:20250611T200920Z
LAST-MODIFIED:20250611T200922Z
UID:10000308-1751788800-1751821200@dakotabaptist.com
SUMMARY:Religious Liberty Sunday
DESCRIPTION:A day to celebrate and promote religious freedom.
URL:https://dakotabaptist.com/event/religious-liberty-sunday/
ATTACH;FMTTYPE=image/jpeg:https://dakotabaptist.com/wp-content/uploads/2025/06/liberty.jpg
END:VEVENT
BEGIN:VEVENT
DTSTART;TZID=America/Denver:20250801T080000
DTEND;TZID=America/Denver:20250802T120000
DTSTAMP:20260420T220627
CREATED:20250611T201458Z
LAST-MODIFIED:20250702T181859Z
UID:10000309-1754035200-1754136000@dakotabaptist.com
SUMMARY:DBC Executive Board Meeting in Bismark\, ND
DESCRIPTION:
URL:https://dakotabaptist.com/event/dbc-executive-board-meeting-in-bismark-nd/
ATTACH;FMTTYPE=image/jpeg:https://dakotabaptist.com/wp-content/uploads/2025/06/qtq80-tBTPpZ.jpeg
END:VEVENT
BEGIN:VEVENT
DTSTART;TZID=America/Denver:20250803T080000
DTEND;TZID=America/Denver:20250803T170000
DTSTAMP:20260420T220627
CREATED:20250611T201759Z
LAST-MODIFIED:20250612T181805Z
UID:10000310-1754208000-1754240400@dakotabaptist.com
SUMMARY:Send Relief Sunday
DESCRIPTION:Send Relief is encouraging Southern Baptists everywhere to join together to meet needs and change lives through serving others across the world on Send Relief Sunday.
URL:https://dakotabaptist.com/event/send-relief-sunday/
ATTACH;FMTTYPE=image/jpeg:https://dakotabaptist.com/wp-content/uploads/2025/06/Send-Relief_04-2048x1152-1.jpg
END:VEVENT
BEGIN:VEVENT
DTSTART;TZID=America/Denver:20250810T080000
DTEND;TZID=America/Denver:20250810T170000
DTSTAMP:20260420T220627
CREATED:20250611T202214Z
LAST-MODIFIED:20250611T202215Z
UID:10000311-1754812800-1754845200@dakotabaptist.com
SUMMARY:SBC Serve Sunday
DESCRIPTION:This is a day to emphasize and promote acts of service and ministry\, encouraging churches to engage in compassion ministry and connect with local and global communities.
URL:https://dakotabaptist.com/event/sbc-serve-sunday/
ATTACH;FMTTYPE=image/jpeg:https://dakotabaptist.com/wp-content/uploads/2025/06/qtq80-kfDYTf.jpeg
END:VEVENT
BEGIN:VEVENT
DTSTART;TZID=America/Denver:20250824T080000
DTEND;TZID=America/Denver:20250824T170000
DTSTAMP:20260420T220627
CREATED:20250611T202704Z
LAST-MODIFIED:20250611T202706Z
UID:10000312-1756022400-1756054800@dakotabaptist.com
SUMMARY:Global Hunger Sunday
DESCRIPTION:Join us to learn\, pray and take action to make a tangible difference in the lives of those in need!
URL:https://dakotabaptist.com/event/global-hunger-sunday/
ATTACH;FMTTYPE=image/jpeg:https://dakotabaptist.com/wp-content/uploads/2025/06/hunger-2.jpg
END:VEVENT
BEGIN:VEVENT
DTSTART;TZID=America/Denver:20250901T080000
DTEND;TZID=America/Denver:20250901T170000
DTSTAMP:20260420T220627
CREATED:20250611T203037Z
LAST-MODIFIED:20250611T203039Z
UID:10000313-1756713600-1756746000@dakotabaptist.com
SUMMARY:Labor Day
DESCRIPTION:The DBC Office is Closed for Labor Day.
URL:https://dakotabaptist.com/event/labor-day/
ATTACH;FMTTYPE=image/jpeg:https://dakotabaptist.com/wp-content/uploads/2025/06/labor-scaled.jpg
END:VEVENT
BEGIN:VEVENT
DTSTART;TZID=America/Denver:20250901T080000
DTEND;TZID=America/Denver:20250930T170000
DTSTAMP:20260420T220627
CREATED:20250612T183817Z
LAST-MODIFIED:20250612T183819Z
UID:10000314-1756713600-1759251600@dakotabaptist.com
SUMMARY:Baker State Missions Offering
DESCRIPTION:
URL:https://dakotabaptist.com/event/baker-state-missions-offering/
ATTACH;FMTTYPE=image/png:https://dakotabaptist.com/wp-content/uploads/2025/06/baker.png
END:VEVENT
BEGIN:VEVENT
DTSTART;TZID=America/Denver:20250907T080000
DTEND;TZID=America/Denver:20250914T170000
DTSTAMP:20260420T220627
CREATED:20250612T184401Z
LAST-MODIFIED:20250612T184403Z
UID:10000315-1757232000-1757869200@dakotabaptist.com
SUMMARY:Week of Prayer for Reaching the Dakota's & Baker Offering
DESCRIPTION:
URL:https://dakotabaptist.com/event/week-of-prayer-for-reaching-the-dakotas-baker-offering/
ATTACH;FMTTYPE=image/jpeg:https://dakotabaptist.com/wp-content/uploads/2025/06/praying-scaled.jpg
END:VEVENT
BEGIN:VEVENT
DTSTART;TZID=America/Denver:20250920T080000
DTEND;TZID=America/Denver:20250920T170000
DTSTAMP:20260420T220627
CREATED:20250612T185133Z
LAST-MODIFIED:20250612T185134Z
UID:10000316-1758355200-1758387600@dakotabaptist.com
SUMMARY:Children's Missions Day
DESCRIPTION:Children’s Missions day encourages children to learn about and participate in mission projects\, connecting them with the needs of their communities and the world.
URL:https://dakotabaptist.com/event/childrens-missions-day/
ATTACH;FMTTYPE=image/jpeg:https://dakotabaptist.com/wp-content/uploads/2025/06/children-holding-hands-stockcake.jpg
END:VEVENT
BEGIN:VEVENT
DTSTART;TZID=America/Denver:20250928T080000
DTEND;TZID=America/Denver:20250928T170000
DTSTAMP:20260420T220627
CREATED:20250612T185729Z
LAST-MODIFIED:20250612T185731Z
UID:10000317-1759046400-1759078800@dakotabaptist.com
SUMMARY:Caring Well Sunday
DESCRIPTION:
URL:https://dakotabaptist.com/event/caring-well-sunday/
ATTACH;FMTTYPE=image/jpeg:https://dakotabaptist.com/wp-content/uploads/2025/06/caring.jpg
END:VEVENT
BEGIN:VEVENT
DTSTART;TZID=America/Denver:20251005T080000
DTEND;TZID=America/Denver:20251005T170000
DTSTAMP:20260420T220627
CREATED:20250612T190413Z
LAST-MODIFIED:20250612T190415Z
UID:10000318-1759651200-1759683600@dakotabaptist.com
SUMMARY:Cooperative Program Sunday
DESCRIPTION:Let’s unite in prayer for the cooperative mission of Southern Baptist churches through the Cooperative Program. The Cooperative Program is the unified giving plan that fuels Southern Baptist efforts to fulfill the Great Commission in every community in North America and around the world.
URL:https://dakotabaptist.com/event/cooperative-program-sunday-2/
ATTACH;FMTTYPE=image/jpeg:https://dakotabaptist.com/wp-content/uploads/2025/06/cp.jpg
END:VEVENT
BEGIN:VEVENT
DTSTART;TZID=America/Denver:20251009T080000
DTEND;TZID=America/Denver:20251010T170000
DTSTAMP:20260420T220627
CREATED:20250612T200749Z
LAST-MODIFIED:20250612T200751Z
UID:10000319-1759996800-1760115600@dakotabaptist.com
SUMMARY:Dakota Baptist Gathering & Annual Meeting in Brookings\, SD
DESCRIPTION:
URL:https://dakotabaptist.com/event/dakota-baptist-gathering-annual-meeting-in-brookings-sd/
ATTACH;FMTTYPE=image/jpeg:https://dakotabaptist.com/wp-content/uploads/2025/06/qtq80-ILc0za.jpeg
END:VEVENT
BEGIN:VEVENT
DTSTART;TZID=America/Denver:20251013T080000
DTEND;TZID=America/Denver:20251013T170000
DTSTAMP:20260420T220627
CREATED:20250612T201321Z
LAST-MODIFIED:20250612T201323Z
UID:10000320-1760342400-1760374800@dakotabaptist.com
SUMMARY:Native American Day/Columbus Day
DESCRIPTION:DBC office is closed for Native American Day/Columbus Day
URL:https://dakotabaptist.com/event/native-american-day-columbus-day/
ATTACH;FMTTYPE=image/webp:https://dakotabaptist.com/wp-content/uploads/2025/06/columbus.webp
END:VEVENT
BEGIN:VEVENT
DTSTART;TZID=America/Denver:20251019T080000
DTEND;TZID=America/Denver:20251019T170000
DTSTAMP:20260420T220627
CREATED:20250612T201857Z
LAST-MODIFIED:20250612T201859Z
UID:10000321-1760860800-1760893200@dakotabaptist.com
SUMMARY:Day of Prayer for Associational Missions
DESCRIPTION:
URL:https://dakotabaptist.com/event/day-of-prayer-for-associational-missions/
ATTACH;FMTTYPE=image/jpeg:https://dakotabaptist.com/wp-content/uploads/2025/06/qtq80-zYFyQg.jpeg
END:VEVENT
BEGIN:VEVENT
DTSTART;TZID=America/Denver:20251024T080000
DTEND;TZID=America/Denver:20251025T170000
DTSTAMP:20260420T220627
CREATED:20250612T202444Z
LAST-MODIFIED:20250612T202446Z
UID:10000322-1761292800-1761411600@dakotabaptist.com
SUMMARY:Church Planters Retreat
DESCRIPTION:
URL:https://dakotabaptist.com/event/church-planters-retreat/
ATTACH;FMTTYPE=image/jpeg:https://dakotabaptist.com/wp-content/uploads/2025/06/qtq80-JMem1J.jpeg
END:VEVENT
BEGIN:VEVENT
DTSTART;TZID=America/Denver:20251026T080000
DTEND;TZID=America/Denver:20251026T170000
DTSTAMP:20260420T220627
CREATED:20250612T202801Z
LAST-MODIFIED:20250612T202803Z
UID:10000323-1761465600-1761498000@dakotabaptist.com
SUMMARY:Student Baptism Sunday
DESCRIPTION:
URL:https://dakotabaptist.com/event/student-baptism-sunday/
ATTACH;FMTTYPE=image/jpeg:https://dakotabaptist.com/wp-content/uploads/2025/06/bap.jpg
END:VEVENT
BEGIN:VEVENT
DTSTART;TZID=America/Denver:20251102T080000
DTEND;TZID=America/Denver:20251102T170000
DTSTAMP:20260420T220627
CREATED:20250612T203252Z
LAST-MODIFIED:20250612T203254Z
UID:10000324-1762070400-1762102800@dakotabaptist.com
SUMMARY:Day of Prayer for the Persecuted Church
DESCRIPTION:
URL:https://dakotabaptist.com/event/day-of-prayer-for-the-persecuted-church/
ATTACH;FMTTYPE=image/png:https://dakotabaptist.com/wp-content/uploads/2025/06/prayeridop.png
END:VEVENT
BEGIN:VEVENT
DTSTART;TZID=America/Denver:20251109T080000
DTEND;TZID=America/Denver:20251109T170000
DTSTAMP:20260420T220627
CREATED:20250612T203732Z
LAST-MODIFIED:20250612T203733Z
UID:10000325-1762675200-1762707600@dakotabaptist.com
SUMMARY:Orphans & Widows Sunday
DESCRIPTION:
URL:https://dakotabaptist.com/event/orphans-widows-sunday/
ATTACH;FMTTYPE=image/png:https://dakotabaptist.com/wp-content/uploads/2025/06/orph.png
END:VEVENT
BEGIN:VEVENT
DTSTART;TZID=America/Denver:20251111T080000
DTEND;TZID=America/Denver:20251111T170000
DTSTAMP:20260420T220627
CREATED:20250612T204211Z
LAST-MODIFIED:20250612T204213Z
UID:10000326-1762848000-1762880400@dakotabaptist.com
SUMMARY:Veterans Day
DESCRIPTION:DBC Office Closed  for Veterans Day
URL:https://dakotabaptist.com/event/veterans-day/
ATTACH;FMTTYPE=image/jpeg:https://dakotabaptist.com/wp-content/uploads/2025/06/20161108_VeteransDay16_1000.jpg
END:VEVENT
BEGIN:VEVENT
DTSTART;TZID=America/Denver:20251122T100000
DTEND;TZID=America/Denver:20251122T133000
DTSTAMP:20260420T220627
CREATED:20251119T030512Z
LAST-MODIFIED:20251119T030514Z
UID:10000331-1763805600-1763818200@dakotabaptist.com
SUMMARY:Evangelism Training
DESCRIPTION:
URL:https://dakotabaptist.com/event/evangelism-training/
END:VEVENT
BEGIN:VEVENT
DTSTART;TZID=America/Denver:20251127T080000
DTEND;TZID=America/Denver:20251128T170000
DTSTAMP:20260420T220627
CREATED:20250612T204600Z
LAST-MODIFIED:20250612T204602Z
UID:10000327-1764230400-1764349200@dakotabaptist.com
SUMMARY:Thanksgiving Day
DESCRIPTION:DBC office closed for Thanksgiving
URL:https://dakotabaptist.com/event/thanksgiving-day/
ATTACH;FMTTYPE=image/jpeg:https://dakotabaptist.com/wp-content/uploads/2025/06/qtq80-2QETQE.jpeg
END:VEVENT
BEGIN:VEVENT
DTSTART;TZID=America/Denver:20251130T080000
DTEND;TZID=America/Denver:20251207T170000
DTSTAMP:20260420T220627
CREATED:20250612T204937Z
LAST-MODIFIED:20250612T204939Z
UID:10000328-1764489600-1765126800@dakotabaptist.com
SUMMARY:Week of Prayer for International Missions & Lottie Moon Christmas Offering
DESCRIPTION:
URL:https://dakotabaptist.com/event/week-of-prayer-for-international-missions-lottie-moon-christmas-offering/
ATTACH;FMTTYPE=image/jpeg:https://dakotabaptist.com/wp-content/uploads/2025/06/lottie.jpg
END:VEVENT
BEGIN:VEVENT
DTSTART;TZID=America/Denver:20251222T080000
DTEND;TZID=America/Denver:20260102T170000
DTSTAMP:20260420T220627
CREATED:20250612T205619Z
LAST-MODIFIED:20250612T205621Z
UID:10000329-1766390400-1767373200@dakotabaptist.com
SUMMARY:DBC Office Closed for Christmas & New Year's Day
DESCRIPTION:
URL:https://dakotabaptist.com/event/dbc-office-closed-for-christmas-new-years-day/
ATTACH;FMTTYPE=image/jpeg:https://dakotabaptist.com/wp-content/uploads/2025/06/BSN-and-Co-Accountants-Perth-Closing-Times-810x400-1.jpg
END:VEVENT
BEGIN:VEVENT
DTSTART;TZID=America/Denver:20251225T080000
DTEND;TZID=America/Denver:20251225T170000
DTSTAMP:20260420T220627
CREATED:20250612T210204Z
LAST-MODIFIED:20250612T210205Z
UID:10000330-1766649600-1766682000@dakotabaptist.com
SUMMARY:Christmas Day
DESCRIPTION:
URL:https://dakotabaptist.com/event/christmas-day/
ATTACH;FMTTYPE=image/webp:https://dakotabaptist.com/wp-content/uploads/2025/06/christmas-religious-nativity-scene-holy-family-abstract-watercolor-illustration-mary-joseph-jesus-starry-night-346709182.webp
END:VEVENT
BEGIN:VEVENT
DTSTART;TZID=America/Denver:20260124T100000
DTEND;TZID=America/Denver:20260124T133000
DTSTAMP:20260420T220627
CREATED:20260106T142213Z
LAST-MODIFIED:20260106T152148Z
UID:10000332-1769248800-1769261400@dakotabaptist.com
SUMMARY:Reaching My Best Friend with the Gospel
DESCRIPTION:Registration Form is at the bottom of the page\n\n\n\nGreetings in Christ! \n\n\n\nI would like to invite you and your members to a DBC Evangelism Training Workshop to be hosted at Redemption Church\, Piedmont\, SD\, on Saturday\, January 24\, 2026\, from 10:00 a.m. – 1:30 p.m. (Mountain Time). \n\n\n\nI will lead this training\, themed “Reaching My Best Friend with the Gospel.” It’s free\, and you get lunch! This would be great for you and anyone in your church. If you can come\, you can send us an email or call us to let us know how many will be coming from your church. Everyone who attends will receive a conference workbook\, a copy of Jimmy Scroggins’ book “Turning Everyday Conversations into Gospel Conversations\,” and a tool that we developed to help initiate gospel conversations. \n\n\n\nThe benefits of this workshop are many. The first is to provide an opportunity for you to learn or sharpen a tool that can help your personal evangelism effectiveness in fulfilling the Great Commission. The second is that\, as a leader\, you will learn tools what will help in supporting\, encouraging\, and equipping your members with tools that will assist them in engaging in effective gospel conversations. \n\n\n\nTraining Date:              Saturday\, January 24 2026 \n\n\n\nTraining Time:              10:00 a.m. – 1:30 p.m. \n\n\n\nTraining Location:      Redemption Church\, 14727 Sturgis Road\, Piedmont\, SD 57769 \n\n\n\nI hope that you will be able to join us\, and I look forward to seeing you. If you have any questions you are welcome to email me at segun@dakotabaptist.com. You can also call me at 605-389-8173. \n\n\n\nYours in Christ\, \n\n\n\nSegun Adeyemo
URL:https://dakotabaptist.com/event/reaching-my-best-friend-with-the-gospel/
LOCATION:Redemption Church\, 14727 Sturgis Rd\, Piedmont\, South Dakota\, 57769\, United States
ATTACH;FMTTYPE=image/jpeg:https://dakotabaptist.com/wp-content/uploads/2026/01/Evangelism-Training_Redemption-Church-Piedmont.jpg
END:VEVENT
BEGIN:VEVENT
DTSTART;TZID=America/Denver:20260326T160000
DTEND;TZID=America/Denver:20260328T110000
DTSTAMP:20260420T220627
CREATED:20260123T161517Z
LAST-MODIFIED:20260123T161522Z
UID:10000333-1774540800-1774695600@dakotabaptist.com
SUMMARY:Pastors and Wives Oasis Retreat
DESCRIPTION:Click here for more information and to register – https://dakotabaptist.com/2026-pastors-wives-retreat/
URL:https://dakotabaptist.com/event/pastors-and-wives-oasis-retreat/
ATTACH;FMTTYPE=image/png:https://dakotabaptist.com/wp-content/uploads/2026/01/DBC-Oasis-Retreat_Spearfish_1.png
END:VEVENT
END:VCALENDAR